BEGIN:VCALENDAR
VERSION:2.0
PRODID:-//Port Stephens Family and Neighbourhood Services - ECPv6.15.10//NONSGML v1.0//EN
CALSCALE:GREGORIAN
METHOD:PUBLISH
X-WR-CALNAME:Port Stephens Family and Neighbourhood Services
X-ORIGINAL-URL:https://psfans.org.au
X-WR-CALDESC:Events for Port Stephens Family and Neighbourhood Services
REFRESH-INTERVAL;VALUE=DURATION:PT1H
X-Robots-Tag:noindex
X-PUBLISHED-TTL:PT1H
BEGIN:VTIMEZONE
TZID:UTC
BEGIN:STANDARD
TZOFFSETFROM:+0000
TZOFFSETTO:+0000
TZNAME:UTC
DTSTART:20250101T000000
END:STANDARD
END:VTIMEZONE
BEGIN:VTIMEZONE
TZID:Australia/Sydney
BEGIN:STANDARD
TZOFFSETFROM:+1100
TZOFFSETTO:+1000
TZNAME:AEST
DTSTART:20250405T160000
END:STANDARD
BEGIN:DAYLIGHT
TZOFFSETFROM:+1000
TZOFFSETTO:+1100
TZNAME:AEDT
DTSTART:20251004T160000
END:DAYLIGHT
BEGIN:STANDARD
TZOFFSETFROM:+1100
TZOFFSETTO:+1000
TZNAME:AEST
DTSTART:20260404T160000
END:STANDARD
BEGIN:DAYLIGHT
TZOFFSETFROM:+1000
TZOFFSETTO:+1100
TZNAME:AEDT
DTSTART:20261003T160000
END:DAYLIGHT
BEGIN:STANDARD
TZOFFSETFROM:+1100
TZOFFSETTO:+1000
TZNAME:AEST
DTSTART:20270403T160000
END:STANDARD
BEGIN:DAYLIGHT
TZOFFSETFROM:+1000
TZOFFSETTO:+1100
TZNAME:AEDT
DTSTART:20271002T160000
END:DAYLIGHT
END:VTIMEZONE
BEGIN:VEVENT
DTSTART;TZID=UTC:20260529T093000
DTEND;TZID=UTC:20260529T163000
DTSTAMP:20260421T012016
CREATED:20260402T044223Z
LAST-MODIFIED:20260402T044257Z
UID:10003074-1780047000-1780072200@psfans.org.au
SUMMARY:Supporting Healing and Recovery
DESCRIPTION:Experiencing family\, domestic\, or sexual violence can have long-lasting effects on your mental health and wellbeing. Supporting Recovery provides free\, trauma-informed support.\nSupporting Recovery is a pilot program funded by the Hunter New England and Central Coast Primary Health Network. It provides tailored healing and recovery support for individuals\, families\, and children impacted by domestic\, family\, and sexual violence.\nThe program is delivered through a partnership that brings together the expertise of two dedicated organisations:\nRelationships Australia NSW provides compassionate Local Care Team support to individuals and families across the broader community based on decades of experience working in the relationship support space..\nBaptistCare delivers a range of mental health services to support recovery and address the complex impacts of trauma across the broader community. \nGet in touch:\nRelationships Australia NSW\nPhone: 1300 364 277\nEmail: supportingrecovery@ransw.org.au \nBROCHURE
URL:https://psfans.org.au/event/supporting-healing-and-recovery-2/2026-05-29/
LOCATION:Phillip Street Site\, 3-5 Phillip Street\, Raymond Terrace\, NSW\, 2324\, Australia
CATEGORIES:Domestic and Family Violence Support,Raymond Terrace
ATTACH;FMTTYPE=image/png:https://psfans.org.au/wp-content/uploads/2025/10/Supporting-Healing-and-Recovery-Button.png
ORGANIZER;CN="Relationships Aust & BaptistCare":MAILTO:supportingrecovery@ransw.org.au
GEO:-32.770645;151.745984
X-APPLE-STRUCTURED-LOCATION;VALUE=URI;X-ADDRESS=Phillip Street Site 3-5 Phillip Street Raymond Terrace NSW 2324 Australia;X-APPLE-RADIUS=500;X-TITLE=3-5 Phillip Street:geo:151.745984,-32.770645
END:VEVENT
BEGIN:VEVENT
DTSTART;TZID=Australia/Sydney:20260529T100000
DTEND;TZID=Australia/Sydney:20260529T120000
DTSTAMP:20260421T012016
CREATED:20260402T043238Z
LAST-MODIFIED:20260402T043519Z
UID:10003034-1780048800-1780056000@psfans.org.au
SUMMARY:Art Therapy Adult's Group
DESCRIPTION:Art therapy can provide therapeutic interventions through the use of visual arts\, including drawing\, painting\, art journaling\, mixed media and sculpture\, for mental health diagnoses\, wellbeing\, early intervention and developmental disorders.\nArts therapies can help people to resolve conflicts\, develop interpersonal skills\, manage behaviour\, reduce stress\, increase self-esteem and achieve insight. \nArt therapy utilises visual art-making to improve physical\, mental and emotional well-being. It can be done with individuals or groups using art processes such as painting to create meaning. \nArts therapy can be helpful for people who cannot verbalise their feelings due to developmental\, cognitive or other conditions. \nPSFaNS Art Therapy is for current clients only. Places are limited. Ask your PSFaNS worker for more information.
URL:https://psfans.org.au/event/art-therapy-adults-group-2-2-2/2026-05-29/
LOCATION:The Deck – Youth Drop-In Centre\, 1a Kangaroo Ave\, Raymond Terrace\, NSW\, 2324\, Australia
CATEGORIES:Aboriginal Programs,Adult Education,Domestic and Family Violence Support,Raymond Terrace,The Deck
ATTACH;FMTTYPE=image/png:https://psfans.org.au/wp-content/uploads/2020/11/art-therapy.png
GEO:-32.756533;151.744704
X-APPLE-STRUCTURED-LOCATION;VALUE=URI;X-ADDRESS=The Deck – Youth Drop-In Centre 1a Kangaroo Ave Raymond Terrace NSW 2324 Australia;X-APPLE-RADIUS=500;X-TITLE=1a Kangaroo Ave:geo:151.744704,-32.756533
END:VEVENT
BEGIN:VEVENT
DTSTART;TZID=Australia/Sydney:20260529T100000
DTEND;TZID=Australia/Sydney:20260529T120000
DTSTAMP:20260421T012016
CREATED:20260402T044453Z
LAST-MODIFIED:20260402T044626Z
UID:10003095-1780048800-1780056000@psfans.org.au
SUMMARY:Help with Centrelink
DESCRIPTION:Do you need help with Centrelink Payments? \n\n\n\n\n\n\n\n\n\n\n\nNot sure what you are entitled to?\nChanged your circumstances?\nJust had a baby and wondering about family assistance?\n\nWe can help! A worker from the Centrelink Community Outreach Team comes to Jacaranda Ave\, Raymond Terrace every 2nd Friday from 10.30am to 12.00pm. \nAppointments are encouraged to be made and can be done by calling 4987 1331
URL:https://psfans.org.au/event/centrelink-outreach-2-2-2/2026-05-29/
LOCATION:Drop In & Neighbourhood Centre\, 3 Jacaranda Ave\, Raymond Terrace\, NSW\, 2324\, Australia
CATEGORIES:Help With Money Matters,Neighbourhood Centre Drop In
ATTACH;FMTTYPE=image/jpeg:https://psfans.org.au/wp-content/uploads/2015/08/centrelink.jpg
GEO:-32.763778;151.74079
X-APPLE-STRUCTURED-LOCATION;VALUE=URI;X-ADDRESS=Drop In & Neighbourhood Centre 3 Jacaranda Ave Raymond Terrace NSW 2324 Australia;X-APPLE-RADIUS=500;X-TITLE=3 Jacaranda Ave:geo:151.74079,-32.763778
END:VEVENT
END:VCALENDAR