BEGIN:VCALENDAR
VERSION:2.0
PRODID:-//Port Stephens Family and Neighbourhood Services - ECPv6.15.10//NONSGML v1.0//EN
CALSCALE:GREGORIAN
METHOD:PUBLISH
X-WR-CALNAME:Port Stephens Family and Neighbourhood Services
X-ORIGINAL-URL:https://psfans.org.au
X-WR-CALDESC:Events for Port Stephens Family and Neighbourhood Services
REFRESH-INTERVAL;VALUE=DURATION:PT1H
X-Robots-Tag:noindex
X-PUBLISHED-TTL:PT1H
BEGIN:VTIMEZONE
TZID:Australia/Sydney
BEGIN:STANDARD
TZOFFSETFROM:+1100
TZOFFSETTO:+1000
TZNAME:AEST
DTSTART:20250405T160000
END:STANDARD
BEGIN:DAYLIGHT
TZOFFSETFROM:+1000
TZOFFSETTO:+1100
TZNAME:AEDT
DTSTART:20251004T160000
END:DAYLIGHT
BEGIN:STANDARD
TZOFFSETFROM:+1100
TZOFFSETTO:+1000
TZNAME:AEST
DTSTART:20260404T160000
END:STANDARD
BEGIN:DAYLIGHT
TZOFFSETFROM:+1000
TZOFFSETTO:+1100
TZNAME:AEDT
DTSTART:20261003T160000
END:DAYLIGHT
BEGIN:STANDARD
TZOFFSETFROM:+1100
TZOFFSETTO:+1000
TZNAME:AEST
DTSTART:20270403T160000
END:STANDARD
BEGIN:DAYLIGHT
TZOFFSETFROM:+1000
TZOFFSETTO:+1100
TZNAME:AEDT
DTSTART:20271002T160000
END:DAYLIGHT
END:VTIMEZONE
BEGIN:VTIMEZONE
TZID:UTC
BEGIN:STANDARD
TZOFFSETFROM:+0000
TZOFFSETTO:+0000
TZNAME:UTC
DTSTART:20250101T000000
END:STANDARD
END:VTIMEZONE
BEGIN:VEVENT
DTSTART;TZID=Australia/Sydney:20260415T100000
DTEND;TZID=Australia/Sydney:20260415T120000
DTSTAMP:20260424T204924
CREATED:20260202T054532Z
LAST-MODIFIED:20260331T023253Z
UID:10002886-1776247200-1776254400@psfans.org.au
SUMMARY:ALS Legal Assistance
DESCRIPTION:The ALS Care & Protection and Family team can assist Aboriginal and Torres Strait Islander people with free legal advice and social work support.\nGet free and confidential help with legal and related issues. \nCome and have a cup of tea and a yarn. \nFor more information\, contact ALS on (02) 4914 6565.
URL:https://psfans.org.au/event/als-legal-assistance-for-vulnerable-women-program-2-2/2026-04-15/
LOCATION:Drop In & Neighbourhood Centre\, 3 Jacaranda Ave\, Raymond Terrace\, NSW\, 2324\, Australia
CATEGORIES:Aboriginal Programs,Domestic and Family Violence Support,Early Intervention and Homelessness Service,Legal Support,Raymond Terrace,Services for Youth
ATTACH;FMTTYPE=image/png:https://psfans.org.au/wp-content/uploads/2025/02/ALS-Legal-Assistance-Button.png
GEO:-32.763778;151.74079
X-APPLE-STRUCTURED-LOCATION;VALUE=URI;X-ADDRESS=Drop In & Neighbourhood Centre 3 Jacaranda Ave Raymond Terrace NSW 2324 Australia;X-APPLE-RADIUS=500;X-TITLE=3 Jacaranda Ave:geo:151.74079,-32.763778
END:VEVENT
BEGIN:VEVENT
DTSTART;TZID=UTC:20260417T093000
DTEND;TZID=UTC:20260417T163000
DTSTAMP:20260424T204924
CREATED:20260402T044223Z
LAST-MODIFIED:20260402T044257Z
UID:10003071-1776418200-1776443400@psfans.org.au
SUMMARY:Supporting Healing and Recovery
DESCRIPTION:Experiencing family\, domestic\, or sexual violence can have long-lasting effects on your mental health and wellbeing. Supporting Recovery provides free\, trauma-informed support.\nSupporting Recovery is a pilot program funded by the Hunter New England and Central Coast Primary Health Network. It provides tailored healing and recovery support for individuals\, families\, and children impacted by domestic\, family\, and sexual violence.\nThe program is delivered through a partnership that brings together the expertise of two dedicated organisations:\nRelationships Australia NSW provides compassionate Local Care Team support to individuals and families across the broader community based on decades of experience working in the relationship support space..\nBaptistCare delivers a range of mental health services to support recovery and address the complex impacts of trauma across the broader community. \nGet in touch:\nRelationships Australia NSW\nPhone: 1300 364 277\nEmail: supportingrecovery@ransw.org.au \nBROCHURE
URL:https://psfans.org.au/event/supporting-healing-and-recovery-2/2026-04-17/
LOCATION:Phillip Street Site\, 3-5 Phillip Street\, Raymond Terrace\, NSW\, 2324\, Australia
CATEGORIES:Domestic and Family Violence Support,Raymond Terrace
ATTACH;FMTTYPE=image/png:https://psfans.org.au/wp-content/uploads/2025/10/Supporting-Healing-and-Recovery-Button.png
ORGANIZER;CN="Relationships Aust & BaptistCare":MAILTO:supportingrecovery@ransw.org.au
GEO:-32.770645;151.745984
X-APPLE-STRUCTURED-LOCATION;VALUE=URI;X-ADDRESS=Phillip Street Site 3-5 Phillip Street Raymond Terrace NSW 2324 Australia;X-APPLE-RADIUS=500;X-TITLE=3-5 Phillip Street:geo:151.745984,-32.770645
END:VEVENT
END:VCALENDAR