BEGIN:VCALENDAR
VERSION:2.0
PRODID:-//Port Stephens Family and Neighbourhood Services - ECPv6.15.10//NONSGML v1.0//EN
CALSCALE:GREGORIAN
METHOD:PUBLISH
X-ORIGINAL-URL:https://psfans.org.au
X-WR-CALDESC:Events for Port Stephens Family and Neighbourhood Services
REFRESH-INTERVAL;VALUE=DURATION:PT1H
X-Robots-Tag:noindex
X-PUBLISHED-TTL:PT1H
BEGIN:VTIMEZONE
TZID:UTC
BEGIN:STANDARD
TZOFFSETFROM:+0000
TZOFFSETTO:+0000
TZNAME:UTC
DTSTART:20250101T000000
END:STANDARD
END:VTIMEZONE
BEGIN:VTIMEZONE
TZID:UTC
BEGIN:STANDARD
TZOFFSETFROM:+0000
TZOFFSETTO:+0000
TZNAME:UTC
DTSTART:20250101T000000
END:STANDARD
END:VTIMEZONE
BEGIN:VEVENT
DTSTART;TZID=UTC:20260209T093000
DTEND;TZID=UTC:20260209T113000
DTSTAMP:20260423T190338
CREATED:20260407T024518Z
LAST-MODIFIED:20260407T025443Z
UID:10001895-1770629400-1770636600@psfans.org.au
SUMMARY:Tilligerry Nature Play
DESCRIPTION:Tilligerry Family Network invites you to Nature Play\nFree guided nature play to assist your child (aged 0-5) to support their learning\, build confidence and develop friendships. \n\nFun\, sport\, adventures\, outdoor games and more… \n\nStory Time and picnic provided. \nFor more info\, call 4984 5298 or text 0438 977 703 (we can only be contacted Mondays\, Tuesdays and Wednesdays).
URL:https://psfans.org.au/event/tilligerry-nature-play-3-2/2026-02-09/
LOCATION:Mallabula Hall\, Lemon Tree Passage Road\, Mallabula\, NSW\, 2319\, Australia
CATEGORIES:Parenting Programs,Playgroups,Tilligerry Family Network
ATTACH;FMTTYPE=image/png:https://psfans.org.au/wp-content/uploads/2024/01/Nature-Play-Website-Button.png
GEO:-32.7338173;152.0146052
X-APPLE-STRUCTURED-LOCATION;VALUE=URI;X-ADDRESS=Mallabula Hall Lemon Tree Passage Road Mallabula NSW 2319 Australia;X-APPLE-RADIUS=500;X-TITLE=Lemon Tree Passage Road:geo:152.0146052,-32.7338173
END:VEVENT
BEGIN:VEVENT
DTSTART;TZID=UTC:20260210T100000
DTEND;TZID=UTC:20260210T120000
DTSTAMP:20260423T190338
CREATED:20260407T025805Z
LAST-MODIFIED:20260407T030014Z
UID:10002115-1770717600-1770724800@psfans.org.au
SUMMARY:Playtime Plus - Tilligerry
DESCRIPTION:Playtime Plus is fun for children and parents / carers.\nNot just a fun place but also a place where we:\n\nProvide a range of learning experiences to promote children’s development\nSupport ways in which parents can play and communicate with their children\nProvide information for parents about topics such as child development\, health\, and child safety\nAssist in ways that may help parents manage their child’s behaviour\nDevelop social networks for parents\nDiscuss any problems the child might be having and give families information about relevant services.\n\nPhone 4984 5298.
URL:https://psfans.org.au/event/playtime-plus-tilligerry-2-2/2026-02-10/
LOCATION:Mallabulla Sports Complex Park\, Lemon Tree Passage Road\, Mallabula\, NSW\, 2319\, Australia
CATEGORIES:Playgroups,Services For Babies and Preschoolers,Tilligerry Family Network
ATTACH;FMTTYPE=image/jpeg:https://psfans.org.au/wp-content/uploads/2015/07/playtime-plus.jpg
END:VEVENT
BEGIN:VEVENT
DTSTART;TZID=UTC:20260211T091500
DTEND;TZID=UTC:20260211T120000
DTSTAMP:20260423T190338
CREATED:20260407T024851Z
LAST-MODIFIED:20260407T025042Z
UID:10002735-1770801300-1770811200@psfans.org.au
SUMMARY:Walk and Talk Parent Group - Tilligerry
DESCRIPTION:Reset Wednesdays @ Tilligerry\nTiligerry Walk and Talk parent group is a group for parents / carents in the Tilligerry area. \nCome along from 9.15am (after school drop off’s) and join us for a morning walk and talk\, debrief and reset. \nChildren welcome (bring your prams). \nFor more information call 0438 977 703.
URL:https://psfans.org.au/event/walk-and-talk-parent-group-tilligerry-2/2026-02-11/
LOCATION:NSW
CATEGORIES:Playgroups,Tilligerry Family Network,Young Parent Programs
ATTACH;FMTTYPE=image/png:https://psfans.org.au/wp-content/uploads/2025/06/Walk-and-Talk.png
END:VEVENT
BEGIN:VEVENT
DTSTART;TZID=UTC:20260211T100000
DTEND;TZID=UTC:20260211T120000
DTSTAMP:20260423T190338
CREATED:20260402T045248Z
LAST-MODIFIED:20260402T045421Z
UID:10001961-1770804000-1770811200@psfans.org.au
SUMMARY:Playtime Plus - Raymond Terrace
DESCRIPTION:Playtime Plus is fun for children and parents / carers.\nNot just a fun place but also a place where we:\n\nProvide a range of learning experiences to promote children’s development\nSupport ways in which parents can play and communicate with their children\nProvide information for parents about topics such as child development\, health\, and child safety\nAssist in ways that may help parents manage their child’s behaviour\nDevelop social networks for parents\nDiscuss any problems the child might be having and give families information about relevant services.\n\nMorning tea is provided.\nNo booking required. Call 49 800 800 for more info.
URL:https://psfans.org.au/event/playtime-plus-2-2/2026-02-11/
LOCATION:Phillip Street Site\, 3-5 Phillip Street\, Raymond Terrace\, NSW\, 2324\, Australia
CATEGORIES:Playgroups,Raymond Terrace,Services For Babies and Preschoolers
ATTACH;FMTTYPE=image/jpeg:https://psfans.org.au/wp-content/uploads/2015/07/playtime-plus.jpg
GEO:-32.770645;151.745984
X-APPLE-STRUCTURED-LOCATION;VALUE=URI;X-ADDRESS=Phillip Street Site 3-5 Phillip Street Raymond Terrace NSW 2324 Australia;X-APPLE-RADIUS=500;X-TITLE=3-5 Phillip Street:geo:151.745984,-32.770645
END:VEVENT
BEGIN:VEVENT
DTSTART;TZID=UTC:20260212T100000
DTEND;TZID=UTC:20260212T120000
DTSTAMP:20260423T190338
CREATED:20260402T045506Z
LAST-MODIFIED:20260402T045834Z
UID:10003215-1770890400-1770897600@psfans.org.au
SUMMARY:Young Parents Group
DESCRIPTION:Young Parents Group is for all parents who are 25 years and under.\nYoung parents face the challenge of meeting not only their own developmental needs at a time of significant growth\, but also the needs of their children. \nYoung Parents Group is friendly\, relaxed and non-judgemental. \nOffering a space where young parents can meet\, share your experiences and parenting tips\, access support and have some fun and relaxation. \nJoin in some activities or sit back and relax while the children play. It’s up to you! \nYoung Parent Group runs every school term\, commencing in week 2. \nMorning tea is provided and transport is available. No booking required\, all welcome. Call Nichola on 4987 1331 for more info.
URL:https://psfans.org.au/event/young-parents-group-2-2/2026-02-12/
LOCATION:Phillip Street Site\, 3-5 Phillip Street\, Raymond Terrace\, NSW\, 2324\, Australia
CATEGORIES:Playgroups,Raymond Terrace,Young Parent Programs
ATTACH;FMTTYPE=image/jpeg:https://psfans.org.au/wp-content/uploads/2015/07/young-parents-group.jpg
GEO:-32.770645;151.745984
X-APPLE-STRUCTURED-LOCATION;VALUE=URI;X-ADDRESS=Phillip Street Site 3-5 Phillip Street Raymond Terrace NSW 2324 Australia;X-APPLE-RADIUS=500;X-TITLE=3-5 Phillip Street:geo:151.745984,-32.770645
END:VEVENT
END:VCALENDAR