BEGIN:VCALENDAR
VERSION:2.0
PRODID:-//Port Stephens Family and Neighbourhood Services - ECPv6.15.10//NONSGML v1.0//EN
CALSCALE:GREGORIAN
METHOD:PUBLISH
X-WR-CALNAME:Port Stephens Family and Neighbourhood Services
X-ORIGINAL-URL:https://psfans.org.au
X-WR-CALDESC:Events for Port Stephens Family and Neighbourhood Services
REFRESH-INTERVAL;VALUE=DURATION:PT1H
X-Robots-Tag:noindex
X-PUBLISHED-TTL:PT1H
BEGIN:VTIMEZONE
TZID:UTC
BEGIN:STANDARD
TZOFFSETFROM:+0000
TZOFFSETTO:+0000
TZNAME:UTC
DTSTART:20250101T000000
END:STANDARD
END:VTIMEZONE
BEGIN:VTIMEZONE
TZID:UTC
BEGIN:STANDARD
TZOFFSETFROM:+0000
TZOFFSETTO:+0000
TZNAME:UTC
DTSTART:20250101T000000
END:STANDARD
END:VTIMEZONE
BEGIN:VEVENT
DTSTART;TZID=UTC:20260428T100000
DTEND;TZID=UTC:20260428T113000
DTSTAMP:20260423T142534
CREATED:20260402T040718Z
LAST-MODIFIED:20260407T033446Z
UID:10002887-1777370400-1777375800@psfans.org.au
SUMMARY:Firstchance PaL Plus Playgroup
DESCRIPTION:Firstchance proudly offers the PaL (Parents and Learning) Program. Delivered by Aboriginal people for Aboriginal families in Karuah\, Raymond Terrace and Toronto\, aiming to support children aged 2–5 in a culturally connected\, fun learning environment. \nKey aspects of PaL include:\nDeveloping early literacy and numeracy skills through play\nCelebrating Aboriginal culture and identity\nSharing practical tips for at-home learning\nBuilding confidence in children for preschool and school readiness\nFostering family connections and mutual support \nTuesdays – During School Terms\n10:00am to 11:30am\nPort Stephens Family & Neighbourhood Centre\n3-5 Phillip Street\, Raymond Terrace \nThe program is free\, family-led\, and rooted in the strengths and knowledge\nof the families involved.
URL:https://psfans.org.au/event/firstchance-pal-plus-playgroup/2026-04-28/
LOCATION:NSW
CATEGORIES:Aboriginal Programs,Playgroups,Raymond Terrace
ORGANIZER;CN="Firstchance":MAILTO:reception@firstchance.org.au
END:VEVENT
BEGIN:VEVENT
DTSTART;TZID=UTC:20260428T100000
DTEND;TZID=UTC:20260428T120000
DTSTAMP:20260423T142534
CREATED:20260407T025805Z
LAST-MODIFIED:20260407T030014Z
UID:10003414-1777370400-1777377600@psfans.org.au
SUMMARY:Playtime Plus - Tilligerry
DESCRIPTION:Playtime Plus is fun for children and parents / carers.\nNot just a fun place but also a place where we:\n\nProvide a range of learning experiences to promote children’s development\nSupport ways in which parents can play and communicate with their children\nProvide information for parents about topics such as child development\, health\, and child safety\nAssist in ways that may help parents manage their child’s behaviour\nDevelop social networks for parents\nDiscuss any problems the child might be having and give families information about relevant services.\n\nPhone 4984 5298.
URL:https://psfans.org.au/event/playtime-plus-tilligerry-2-2/2026-04-28/
LOCATION:Mallabulla Sports Complex Park\, Lemon Tree Passage Road\, Mallabula\, NSW\, 2319\, Australia
CATEGORIES:Playgroups,Services For Babies and Preschoolers,Tilligerry Family Network
ATTACH;FMTTYPE=image/jpeg:https://psfans.org.au/wp-content/uploads/2015/07/playtime-plus.jpg
END:VEVENT
BEGIN:VEVENT
DTSTART;TZID=UTC:20260429T091500
DTEND;TZID=UTC:20260429T120000
DTSTAMP:20260423T142534
CREATED:20260407T024851Z
LAST-MODIFIED:20260407T025042Z
UID:10003309-1777454100-1777464000@psfans.org.au
SUMMARY:Walk and Talk Parent Group - Tilligerry
DESCRIPTION:Reset Wednesdays @ Tilligerry\nTiligerry Walk and Talk parent group is a group for parents / carents in the Tilligerry area. \nCome along from 9.15am (after school drop off’s) and join us for a morning walk and talk\, debrief and reset. \nChildren welcome (bring your prams). \nFor more information call 0438 977 703.
URL:https://psfans.org.au/event/walk-and-talk-parent-group-tilligerry-2/2026-04-29/
LOCATION:NSW
CATEGORIES:Playgroups,Tilligerry Family Network,Young Parent Programs
ATTACH;FMTTYPE=image/png:https://psfans.org.au/wp-content/uploads/2025/06/Walk-and-Talk.png
END:VEVENT
BEGIN:VEVENT
DTSTART;TZID=UTC:20260429T100000
DTEND;TZID=UTC:20260429T120000
DTSTAMP:20260423T142534
CREATED:20260402T045248Z
LAST-MODIFIED:20260402T045421Z
UID:10003153-1777456800-1777464000@psfans.org.au
SUMMARY:Playtime Plus - Raymond Terrace
DESCRIPTION:Playtime Plus is fun for children and parents / carers.\nNot just a fun place but also a place where we:\n\nProvide a range of learning experiences to promote children’s development\nSupport ways in which parents can play and communicate with their children\nProvide information for parents about topics such as child development\, health\, and child safety\nAssist in ways that may help parents manage their child’s behaviour\nDevelop social networks for parents\nDiscuss any problems the child might be having and give families information about relevant services.\n\nMorning tea is provided.\nNo booking required. Call 49 800 800 for more info.
URL:https://psfans.org.au/event/playtime-plus-2-2/2026-04-29/
LOCATION:Phillip Street Site\, 3-5 Phillip Street\, Raymond Terrace\, NSW\, 2324\, Australia
CATEGORIES:Playgroups,Raymond Terrace,Services For Babies and Preschoolers
ATTACH;FMTTYPE=image/jpeg:https://psfans.org.au/wp-content/uploads/2015/07/playtime-plus.jpg
GEO:-32.770645;151.745984
X-APPLE-STRUCTURED-LOCATION;VALUE=URI;X-ADDRESS=Phillip Street Site 3-5 Phillip Street Raymond Terrace NSW 2324 Australia;X-APPLE-RADIUS=500;X-TITLE=3-5 Phillip Street:geo:151.745984,-32.770645
END:VEVENT
BEGIN:VEVENT
DTSTART;TZID=UTC:20260430T100000
DTEND;TZID=UTC:20260430T120000
DTSTAMP:20260423T142534
CREATED:20260402T045506Z
LAST-MODIFIED:20260402T045834Z
UID:10003226-1777543200-1777550400@psfans.org.au
SUMMARY:Young Parents Group
DESCRIPTION:Young Parents Group is for all parents who are 25 years and under.\nYoung parents face the challenge of meeting not only their own developmental needs at a time of significant growth\, but also the needs of their children. \nYoung Parents Group is friendly\, relaxed and non-judgemental. \nOffering a space where young parents can meet\, share your experiences and parenting tips\, access support and have some fun and relaxation. \nJoin in some activities or sit back and relax while the children play. It’s up to you! \nYoung Parent Group runs every school term\, commencing in week 2. \nMorning tea is provided and transport is available. No booking required\, all welcome. Call Nichola on 4987 1331 for more info.
URL:https://psfans.org.au/event/young-parents-group-2-2/2026-04-30/
LOCATION:Phillip Street Site\, 3-5 Phillip Street\, Raymond Terrace\, NSW\, 2324\, Australia
CATEGORIES:Playgroups,Raymond Terrace,Young Parent Programs
ATTACH;FMTTYPE=image/jpeg:https://psfans.org.au/wp-content/uploads/2015/07/young-parents-group.jpg
GEO:-32.770645;151.745984
X-APPLE-STRUCTURED-LOCATION;VALUE=URI;X-ADDRESS=Phillip Street Site 3-5 Phillip Street Raymond Terrace NSW 2324 Australia;X-APPLE-RADIUS=500;X-TITLE=3-5 Phillip Street:geo:151.745984,-32.770645
END:VEVENT
END:VCALENDAR