BEGIN:VCALENDAR
VERSION:2.0
PRODID:-//Port Stephens Family and Neighbourhood Services - ECPv6.15.10//NONSGML v1.0//EN
CALSCALE:GREGORIAN
METHOD:PUBLISH
X-WR-CALNAME:Port Stephens Family and Neighbourhood Services
X-ORIGINAL-URL:https://psfans.org.au
X-WR-CALDESC:Events for Port Stephens Family and Neighbourhood Services
REFRESH-INTERVAL;VALUE=DURATION:PT1H
X-Robots-Tag:noindex
X-PUBLISHED-TTL:PT1H
BEGIN:VTIMEZONE
TZID:UTC
BEGIN:STANDARD
TZOFFSETFROM:+0000
TZOFFSETTO:+0000
TZNAME:UTC
DTSTART:20250101T000000
END:STANDARD
END:VTIMEZONE
BEGIN:VTIMEZONE
TZID:Australia/Sydney
BEGIN:STANDARD
TZOFFSETFROM:+1100
TZOFFSETTO:+1000
TZNAME:AEST
DTSTART:20250405T160000
END:STANDARD
BEGIN:DAYLIGHT
TZOFFSETFROM:+1000
TZOFFSETTO:+1100
TZNAME:AEDT
DTSTART:20251004T160000
END:DAYLIGHT
BEGIN:STANDARD
TZOFFSETFROM:+1100
TZOFFSETTO:+1000
TZNAME:AEST
DTSTART:20260404T160000
END:STANDARD
BEGIN:DAYLIGHT
TZOFFSETFROM:+1000
TZOFFSETTO:+1100
TZNAME:AEDT
DTSTART:20261003T160000
END:DAYLIGHT
BEGIN:STANDARD
TZOFFSETFROM:+1100
TZOFFSETTO:+1000
TZNAME:AEST
DTSTART:20270403T160000
END:STANDARD
BEGIN:DAYLIGHT
TZOFFSETFROM:+1000
TZOFFSETTO:+1100
TZNAME:AEDT
DTSTART:20271002T160000
END:DAYLIGHT
END:VTIMEZONE
BEGIN:VEVENT
DTSTART;TZID=UTC:20260428T150000
DTEND;TZID=UTC:20260428T170000
DTSTAMP:20260423T091201
CREATED:20260407T025556Z
LAST-MODIFIED:20260407T025710Z
UID:10003379-1777388400-1777395600@psfans.org.au
SUMMARY:Tilligerry Legends After School Group
DESCRIPTION:Are you in year 5 or 6 at school?\nTilly Legends is an after school group for children who are currently in years 5 or 6. \nThe group meets weekly in school term and is facilitated by 2 experienced workers. \nDrumbeat\, an evidence based social development program which uses music to engage and transfer learning\, is facilitated during the group sessions. Other fun activities include cooking ; playing sports (basketball\, soccer and pool); and arts and crafts. \nTerm 4 will have a focus on transition to high school with some extra support provided to those participants who require it. \nWe guarantee fun!\nBookings essential. To book or enquire phone Danielle on  4984 5298.
URL:https://psfans.org.au/event/tilligerry-legends-after-school-group-2-2/2026-04-28/
LOCATION:Mallabula Hall\, Lemon Tree Passage Road\, Mallabula\, NSW\, 2319\, Australia
CATEGORIES:Services For Kids (5-12 years),Tilligerry Family Network
ATTACH;FMTTYPE=image/jpeg:https://psfans.org.au/wp-content/uploads/2015/08/tilligerry-legends.jpg
GEO:-32.7338173;152.0146052
X-APPLE-STRUCTURED-LOCATION;VALUE=URI;X-ADDRESS=Mallabula Hall Lemon Tree Passage Road Mallabula NSW 2319 Australia;X-APPLE-RADIUS=500;X-TITLE=Lemon Tree Passage Road:geo:152.0146052,-32.7338173
END:VEVENT
BEGIN:VEVENT
DTSTART;TZID=Australia/Sydney:20260430T150000
DTEND;TZID=Australia/Sydney:20260430T163000
DTSTAMP:20260423T091201
CREATED:20260402T045001Z
LAST-MODIFIED:20260402T045149Z
UID:10003118-1777561200-1777566600@psfans.org.au
SUMMARY:Art Therapy Children's Group
DESCRIPTION:Art therapy can provide therapeutic interventions through the use of visual arts\, including drawing\, painting\, art journaling\, mixed media and sculpture\, for mental health diagnoses\, wellbeing\, early intervention and developmental disorders.\nRuns weekly in school terms (excluding week 1). \nFor existing PSFaNS Clients only. Places are limited. Ask your PSFaNS worker for more information.
URL:https://psfans.org.au/event/art-therapy-group-2-2/2026-04-30/
LOCATION:The Deck – Youth Drop-In Centre\, 1a Kangaroo Ave\, Raymond Terrace\, NSW\, 2324\, Australia
CATEGORIES:Raymond Terrace,Services For Kids (5-12 years),The Deck
ATTACH;FMTTYPE=image/png:https://psfans.org.au/wp-content/uploads/2020/11/art-therapy.png
GEO:-32.756533;151.744704
X-APPLE-STRUCTURED-LOCATION;VALUE=URI;X-ADDRESS=The Deck – Youth Drop-In Centre 1a Kangaroo Ave Raymond Terrace NSW 2324 Australia;X-APPLE-RADIUS=500;X-TITLE=1a Kangaroo Ave:geo:151.744704,-32.756533
END:VEVENT
END:VCALENDAR