BEGIN:VCALENDAR
VERSION:2.0
PRODID:-//Port Stephens Family and Neighbourhood Services - ECPv6.15.10//NONSGML v1.0//EN
CALSCALE:GREGORIAN
METHOD:PUBLISH
X-WR-CALNAME:Port Stephens Family and Neighbourhood Services
X-ORIGINAL-URL:https://psfans.org.au
X-WR-CALDESC:Events for Port Stephens Family and Neighbourhood Services
REFRESH-INTERVAL;VALUE=DURATION:PT1H
X-Robots-Tag:noindex
X-PUBLISHED-TTL:PT1H
BEGIN:VTIMEZONE
TZID:Australia/Sydney
BEGIN:STANDARD
TZOFFSETFROM:+1100
TZOFFSETTO:+1000
TZNAME:AEST
DTSTART:20240406T160000
END:STANDARD
BEGIN:DAYLIGHT
TZOFFSETFROM:+1000
TZOFFSETTO:+1100
TZNAME:AEDT
DTSTART:20241005T160000
END:DAYLIGHT
BEGIN:STANDARD
TZOFFSETFROM:+1100
TZOFFSETTO:+1000
TZNAME:AEST
DTSTART:20250405T160000
END:STANDARD
BEGIN:DAYLIGHT
TZOFFSETFROM:+1000
TZOFFSETTO:+1100
TZNAME:AEDT
DTSTART:20251004T160000
END:DAYLIGHT
BEGIN:STANDARD
TZOFFSETFROM:+1100
TZOFFSETTO:+1000
TZNAME:AEST
DTSTART:20260404T160000
END:STANDARD
BEGIN:DAYLIGHT
TZOFFSETFROM:+1000
TZOFFSETTO:+1100
TZNAME:AEDT
DTSTART:20261003T160000
END:DAYLIGHT
END:VTIMEZONE
BEGIN:VTIMEZONE
TZID:UTC
BEGIN:STANDARD
TZOFFSETFROM:+0000
TZOFFSETTO:+0000
TZNAME:UTC
DTSTART:20240101T000000
END:STANDARD
END:VTIMEZONE
BEGIN:VEVENT
DTSTART;TZID=Australia/Sydney:20250929T090000
DTEND;TZID=Australia/Sydney:20250929T103000
DTSTAMP:20260422T141435
CREATED:20250221T050351Z
LAST-MODIFIED:20250221T050448Z
UID:10002184-1759136400-1759141800@psfans.org.au
SUMMARY:St John's Food Hampers
DESCRIPTION:  \n\n\n\n\n\n\n\n\n\n\nSt Johns Food Hampers\nMonday morning before 10.30am\, families (max 8 per week) can receive a referral for a food hamper at St Johns Anglican Church. \nCan be accessed once a month only.\n\n\n\n\n\n\n\n\n\n\n 
URL:https://psfans.org.au/event/st-johns-food-hampers-2/2025-09-29/
LOCATION:Drop In & Neighbourhood Centre\, 3 Jacaranda Ave\, Raymond Terrace\, NSW\, 2324\, Australia
CATEGORIES:Food Help,Neighbourhood Centre Drop In
ATTACH;FMTTYPE=image/jpeg:https://psfans.org.au/wp-content/uploads/2015/08/st-johns-hampers.jpg
GEO:-32.763778;151.74079
X-APPLE-STRUCTURED-LOCATION;VALUE=URI;X-ADDRESS=Drop In & Neighbourhood Centre 3 Jacaranda Ave Raymond Terrace NSW 2324 Australia;X-APPLE-RADIUS=500;X-TITLE=3 Jacaranda Ave:geo:151.74079,-32.763778
END:VEVENT
BEGIN:VEVENT
DTSTART;TZID=Australia/Sydney:20250929T090000
DTEND;TZID=Australia/Sydney:20250929T160000
DTSTAMP:20260422T141435
CREATED:20250221T050543Z
LAST-MODIFIED:20250331T014650Z
UID:10002227-1759136400-1759161600@psfans.org.au
SUMMARY:Oz Harvest
DESCRIPTION:Oz Harvest is an Australian food rescue organisation which collects surplus food from local business and supermarkets throughout the community.\nOz Harvest delivers to 3 Jacaranda Ave on Mondays. \nCall 4987 1331 from 10am on Monday morning to register. \n\nPick up hampers at the door between 3-4pm on Monday afternoon.\nHampers can only be received once per fortnight.
URL:https://psfans.org.au/event/oz-harvest-2/2025-09-29/
LOCATION:Drop In & Neighbourhood Centre\, 3 Jacaranda Ave\, Raymond Terrace\, NSW\, 2324\, Australia
CATEGORIES:Food Help,Neighbourhood Centre Drop In
ATTACH;FMTTYPE=image/jpeg:https://psfans.org.au/wp-content/uploads/2015/08/ozharvest1.jpg
GEO:-32.763778;151.74079
X-APPLE-STRUCTURED-LOCATION;VALUE=URI;X-ADDRESS=Drop In & Neighbourhood Centre 3 Jacaranda Ave Raymond Terrace NSW 2324 Australia;X-APPLE-RADIUS=500;X-TITLE=3 Jacaranda Ave:geo:151.74079,-32.763778
END:VEVENT
BEGIN:VEVENT
DTSTART;TZID=Australia/Sydney:20250929T090000
DTEND;TZID=Australia/Sydney:20250929T160000
DTSTAMP:20260422T141435
CREATED:20250221T051455Z
LAST-MODIFIED:20250221T051702Z
UID:10002390-1759136400-1759161600@psfans.org.au
SUMMARY:Headspace Extra
DESCRIPTION:In particular\, this program aims to support young people between the ages of 12-25 years who may be experiencing more chronic and episodic moderate to severe mental illness and other psychosocial stressors impacting on a young person and their families’ level of functioning.  \nIt specifically targets young people with more complex needs\, in particular Aboriginal and Torres Strait Islander young people.  \nHeadspace Extra will provide a longer term level of support involving both clinical and psychosocial support to assist with reducing the impact level of chronic severe mental health impairment on young people and their families. \n\n\n\n\n\n  \n\n\n\n\n\n\n\n\n\n\nThe referral pathway into the program is the same as any headspace referral by way of completion of the referral form located on the website https://headspace.org.au/headspace-centres/newcastle/. \n\n\n\n\n\n  \n\n\n\n\n\n\n\n\n\n\nIt is best to contact headspace on 4929 4201 to discuss the referral with our Support Coordinator Marie. \n\n\n\n\n\n\n\n\n\n\n 
URL:https://psfans.org.au/event/headspace-extra-2/2025-09-29/
LOCATION:NSW
CATEGORIES:Neighbourhood Centre Drop In,Raymond Terrace,Services for Youth
ATTACH;FMTTYPE=image/png:https://psfans.org.au/wp-content/uploads/2019/10/hEADSPACE.png
END:VEVENT
BEGIN:VEVENT
DTSTART;TZID=Australia/Sydney:20250930T090000
DTEND;TZID=Australia/Sydney:20250930T160000
DTSTAMP:20260422T141435
CREATED:20250221T050918Z
LAST-MODIFIED:20250221T051041Z
UID:10002271-1759222800-1759248000@psfans.org.au
SUMMARY:Financial Counselling
DESCRIPTION:Do you have money worries? \n\n\n\n\n\n\n\n\n\n\n\n\n\n\n\n\n\n\n\n\n\n\n\n\n\nFinancial Counselling is a free and confidential service.\n\n\n\n\n\n\n\n\n\n\nA financial counsellor from Hunter Valley Project Inc provides financial counselling on Tuesdays at 3 Jacaranda Ave\, Raymond Terrace. \n\n\n\n\n\nAppointments are needed and can be made by ringing 4933 8999.\n\n\n\n\n\n\n\n\n\n\n 
URL:https://psfans.org.au/event/financial-counselling-with-hunter-valley-project-inc-2/2025-09-30/
LOCATION:Drop In & Neighbourhood Centre\, 3 Jacaranda Ave\, Raymond Terrace\, NSW\, 2324\, Australia
CATEGORIES:Help With Money Matters,Neighbourhood Centre Drop In
ATTACH;FMTTYPE=image/jpeg:https://psfans.org.au/wp-content/uploads/2015/08/financial-councelling-hunter-valley-project.jpg
GEO:-32.763778;151.74079
X-APPLE-STRUCTURED-LOCATION;VALUE=URI;X-ADDRESS=Drop In & Neighbourhood Centre 3 Jacaranda Ave Raymond Terrace NSW 2324 Australia;X-APPLE-RADIUS=500;X-TITLE=3 Jacaranda Ave:geo:151.74079,-32.763778
END:VEVENT
BEGIN:VEVENT
DTSTART;TZID=Australia/Sydney:20250930T090000
DTEND;TZID=Australia/Sydney:20250930T160000
DTSTAMP:20260422T141435
CREATED:20250221T051455Z
LAST-MODIFIED:20250221T051702Z
UID:10002391-1759222800-1759248000@psfans.org.au
SUMMARY:Headspace Extra
DESCRIPTION:In particular\, this program aims to support young people between the ages of 12-25 years who may be experiencing more chronic and episodic moderate to severe mental illness and other psychosocial stressors impacting on a young person and their families’ level of functioning.  \nIt specifically targets young people with more complex needs\, in particular Aboriginal and Torres Strait Islander young people.  \nHeadspace Extra will provide a longer term level of support involving both clinical and psychosocial support to assist with reducing the impact level of chronic severe mental health impairment on young people and their families. \n\n\n\n\n\n  \n\n\n\n\n\n\n\n\n\n\nThe referral pathway into the program is the same as any headspace referral by way of completion of the referral form located on the website https://headspace.org.au/headspace-centres/newcastle/. \n\n\n\n\n\n  \n\n\n\n\n\n\n\n\n\n\nIt is best to contact headspace on 4929 4201 to discuss the referral with our Support Coordinator Marie. \n\n\n\n\n\n\n\n\n\n\n 
URL:https://psfans.org.au/event/headspace-extra-2/2025-09-30/
LOCATION:NSW
CATEGORIES:Neighbourhood Centre Drop In,Raymond Terrace,Services for Youth
ATTACH;FMTTYPE=image/png:https://psfans.org.au/wp-content/uploads/2019/10/hEADSPACE.png
END:VEVENT
BEGIN:VEVENT
DTSTART;TZID=UTC:20250930T100000
DTEND;TZID=UTC:20250930T120000
DTSTAMP:20260422T141435
CREATED:20250729T052153Z
LAST-MODIFIED:20250922T020009Z
UID:10002784-1759226400-1759233600@psfans.org.au
SUMMARY:Reclaiming My Place
DESCRIPTION:‘Reclaiming My Place’ is run in collaboration with The University of Newcastle\, Australia and aims to reflect the importance of art in healing. The group will be a safe space for individuals to find a sense of connection and reduce feelings of isolation.\n\n\n\n When: Tuesdays\, starting 5th August 2025\n Time: 10:00am – 12:00pm\n Where: The DECK – Youth Venue\, 1a Kangaroo St\, Raymond Terrace\n\n\n\n\n\n Places are limited! Interested? Speak with your support worker to find out more.
URL:https://psfans.org.au/event/reclaiming-my-place/2025-09-30/
LOCATION:The Deck – Youth Drop-In Centre\, 1a Kangaroo Ave\, Raymond Terrace\, NSW\, 2324\, Australia
CATEGORIES:Adult Education,Domestic and Family Violence Support,Raymond Terrace,The Deck
GEO:-32.756533;151.744704
X-APPLE-STRUCTURED-LOCATION;VALUE=URI;X-ADDRESS=The Deck – Youth Drop-In Centre 1a Kangaroo Ave Raymond Terrace NSW 2324 Australia;X-APPLE-RADIUS=500;X-TITLE=1a Kangaroo Ave:geo:151.744704,-32.756533
END:VEVENT
BEGIN:VEVENT
DTSTART;TZID=UTC:20251002T130000
DTEND;TZID=UTC:20251002T143000
DTSTAMP:20260422T141435
CREATED:20250904T060335Z
LAST-MODIFIED:20250904T060441Z
UID:10002840-1759410000-1759415400@psfans.org.au
SUMMARY:Multicultural Women's Group
DESCRIPTION:Our Women’s Multicultural Group is a warm and welcoming space for women from all cultural backgrounds.\nA place to come together to connect\, share stories\, exchange information\, and enjoy some delicious food in good company. \nWe would love for you to join us for afternoon tea and meet other women in the local area. \n\n\nChildren’s play area available.\n\n\nFirst time to group?\nCall 49 800 800 to register. We will then include your phone number on our monthly text reminder list.\nReturn visitors?\nText your RSVP to Sarah 0448275222\, Ellen 0429553496 or Angelique 0457087488.
URL:https://psfans.org.au/event/multicultural-womens-group/2025-10-02/
LOCATION:Phillip Street Site\, 3-5 Phillip Street\, Raymond Terrace\, NSW\, 2324\, Australia
CATEGORIES:Adult Education,Domestic and Family Violence Support,Raymond Terrace
ATTACH;FMTTYPE=image/png:https://psfans.org.au/wp-content/uploads/2025/09/Monthly-Multicultural-Womens-Group-Button.png
GEO:-32.770645;151.745984
X-APPLE-STRUCTURED-LOCATION;VALUE=URI;X-ADDRESS=Phillip Street Site 3-5 Phillip Street Raymond Terrace NSW 2324 Australia;X-APPLE-RADIUS=500;X-TITLE=3-5 Phillip Street:geo:151.745984,-32.770645
END:VEVENT
BEGIN:VEVENT
DTSTART;TZID=Australia/Sydney:20251003T100000
DTEND;TZID=Australia/Sydney:20251003T120000
DTSTAMP:20260422T141435
CREATED:20250704T004604Z
LAST-MODIFIED:20250704T004604Z
UID:10002315-1759485600-1759492800@psfans.org.au
SUMMARY:Help with Centrelink
DESCRIPTION:Do you need help with Centrelink Payments? \n\n\n\n\n\n\n\n\n\n\n\nNot sure what you are entitled to?\nChanged your circumstances?\nJust had a baby and wondering about family assistance?\n\nWe can help! A worker from the Centrelink Community Outreach Team comes to Jacaranda Ave\, Raymond Terrace every 2nd Friday from 10.30am to 12.00pm. \nAppointments are encouraged to be made and can be done by calling 4987 1331
URL:https://psfans.org.au/event/centrelink-outreach-2-2/2025-10-03/
LOCATION:Drop In & Neighbourhood Centre\, 3 Jacaranda Ave\, Raymond Terrace\, NSW\, 2324\, Australia
CATEGORIES:Help With Money Matters,Neighbourhood Centre Drop In
ATTACH;FMTTYPE=image/jpeg:https://psfans.org.au/wp-content/uploads/2015/08/centrelink.jpg
GEO:-32.763778;151.74079
X-APPLE-STRUCTURED-LOCATION;VALUE=URI;X-ADDRESS=Drop In & Neighbourhood Centre 3 Jacaranda Ave Raymond Terrace NSW 2324 Australia;X-APPLE-RADIUS=500;X-TITLE=3 Jacaranda Ave:geo:151.74079,-32.763778
END:VEVENT
BEGIN:VEVENT
DTSTART;TZID=Australia/Sydney:20251006T090000
DTEND;TZID=Australia/Sydney:20251006T170000
DTSTAMP:20260422T141435
CREATED:20161011T010642Z
LAST-MODIFIED:20260407T031741Z
UID:10001690-1759741200-1759770000@psfans.org.au
SUMMARY:Public Holiday - Service Closed
DESCRIPTION:
URL:https://psfans.org.au/event/service-closed/2025-10-06/
LOCATION:NSW
END:VEVENT
END:VCALENDAR