BEGIN:VCALENDAR
VERSION:2.0
PRODID:-//Port Stephens Family and Neighbourhood Services - ECPv6.15.10//NONSGML v1.0//EN
CALSCALE:GREGORIAN
METHOD:PUBLISH
X-WR-CALNAME:Port Stephens Family and Neighbourhood Services
X-ORIGINAL-URL:https://psfans.org.au
X-WR-CALDESC:Events for Port Stephens Family and Neighbourhood Services
REFRESH-INTERVAL;VALUE=DURATION:PT1H
X-Robots-Tag:noindex
X-PUBLISHED-TTL:PT1H
BEGIN:VTIMEZONE
TZID:Australia/Sydney
BEGIN:STANDARD
TZOFFSETFROM:+1100
TZOFFSETTO:+1000
TZNAME:AEST
DTSTART:20260404T160000
END:STANDARD
BEGIN:DAYLIGHT
TZOFFSETFROM:+1000
TZOFFSETTO:+1100
TZNAME:AEDT
DTSTART:20261003T160000
END:DAYLIGHT
BEGIN:STANDARD
TZOFFSETFROM:+1100
TZOFFSETTO:+1000
TZNAME:AEST
DTSTART:20270403T160000
END:STANDARD
BEGIN:DAYLIGHT
TZOFFSETFROM:+1000
TZOFFSETTO:+1100
TZNAME:AEDT
DTSTART:20271002T160000
END:DAYLIGHT
BEGIN:STANDARD
TZOFFSETFROM:+1100
TZOFFSETTO:+1000
TZNAME:AEST
DTSTART:20280401T160000
END:STANDARD
BEGIN:DAYLIGHT
TZOFFSETFROM:+1000
TZOFFSETTO:+1100
TZNAME:AEDT
DTSTART:20280930T160000
END:DAYLIGHT
END:VTIMEZONE
BEGIN:VEVENT
DTSTART;TZID=Australia/Sydney:20270101T090000
DTEND;TZID=Australia/Sydney:20270101T170000
DTSTAMP:20260422T183206
CREATED:20260202T031350Z
LAST-MODIFIED:20260202T031911Z
UID:10002881-1798794000-1798822800@psfans.org.au
SUMMARY:Public Holiday - Service Closed
DESCRIPTION:
URL:https://psfans.org.au/event/service-closed-2/2027-01-01/
END:VEVENT
END:VCALENDAR